BEGIN:VCALENDAR
VERSION:2.0
PRODID:-//Vízi Kultúrház - Kisbodak - ECPv6.15.20//NONSGML v1.0//EN
CALSCALE:GREGORIAN
METHOD:PUBLISH
X-ORIGINAL-URL:https://vizikulturhaz.kisbodak.hu
X-WR-CALDESC:Események Vízi Kultúrház - Kisbodak
REFRESH-INTERVAL;VALUE=DURATION:PT1H
X-Robots-Tag:noindex
X-PUBLISHED-TTL:PT1H
BEGIN:VTIMEZONE
TZID:UTC
BEGIN:STANDARD
TZOFFSETFROM:+0000
TZOFFSETTO:+0000
TZNAME:UTC
DTSTART:20220101T000000
END:STANDARD
END:VTIMEZONE
BEGIN:VEVENT
DTSTART;TZID=UTC:20230624T080000
DTEND;TZID=UTC:20230624T170000
DTSTAMP:20260421T230529
CREATED:20230613T085047Z
LAST-MODIFIED:20230615T073830Z
UID:783-1687593600-1687626000@vizikulturhaz.kisbodak.hu
SUMMARY:Vízitúra Kóstoló – Ingyenes vízitúrás nap Kisbodakon\, a Duna-nap alkalmából
DESCRIPTION:Az egész napos program során különféle vízitúrákon vehetsz részt\, amelyek között megtalálhatók a rövidebb vízitúra kóstolók és nagyobb kalandok is. Tapasztalt túravezetők segítségével fedezheted fel a zeg-zugos ágakat\, tavakat\, és élvezheted a vízi kalandokat\, biztonságos családi csónakokkal és túrakenukkal.
URL:https://vizikulturhaz.kisbodak.hu/event/vizitura-kostolo-ingyenes-vizituras-nap-kisbodakon-a-duna-nap-alkalmabol/
CATEGORIES:Szigetköz Jártassági Tanfolyam
ATTACH;FMTTYPE=image/jpeg:https://vizikulturhaz.kisbodak.hu/wp-content/uploads/2023/06/352527228_192946176666050_3889171873311037581_n.jpg
ORGANIZER;CN="Duna-R%C3%A9gi%C3%B3 V%C3%ADziturisztikai Sz%C3%B6vets%C3%A9g":MAILTO:office@dr-vtsz.hu
END:VEVENT
BEGIN:VEVENT
DTSTART;TZID=UTC:20230624T080000
DTEND;TZID=UTC:20230624T170000
DTSTAMP:20260421T230529
CREATED:20230914T165113Z
LAST-MODIFIED:20230914T165116Z
UID:819-1687593600-1687626000@vizikulturhaz.kisbodak.hu
SUMMARY:Vízitúra Kóstoló
DESCRIPTION:Kóstold meg a vízitúrát! Szigetköz Jártassági TanfolyamINGYENES esemény\, vízitúrák délelőtt és délután Kisbodakon! Az ebédre is a vendégeik vagytok! \n\n\n\nCsatlakozz hozzánk június 24-én a szigetközi Kisbodakon megrendezésre kerülő ingyenes\, vízitúrázást és természetjárást népszerűsítő szabadtéri eseményen! Ez fantasztikus lehetőség arra\, hogy felfedezd a Szigetköz gyönyörű vízivilágát és természeti csodáit.REGISZTRÁCIÓ és infó: http://vizikulturhaz.kisbodak.hu/vizitura-kostolo…/ \n\n\n\nTapasztalt túravezetők segítségével fedezheted fel a zeg-zugos ágakat\, tavakat\, és élvezheted a vízi kalandokat\, biztonságos családi csónakokkal és túrakenukkal.TELJESEN KEZDŐKET IS VÁRUNK!! \n\n\n\nA program (az időpontokban lehetnek csúszások): \n\n\n\n09:00 – Találkozó Kisbodakon\, a Gátőrháznál. Kávé\, eligazítás\, kis beszélgetés a Szigetközről és irány a Dunapart!10:00 – két túra indul. Egy rövidebb Vízitúra Kóstoló (kb. 50 perc) és egy hosszabb\, kb. 2 órás túra az Öreg-Szigeti tó körül.11:00 – Vízitúra Kóstoló (kb. 50 perc) vízitúra indulás.12:30 – Tábori ebéd. Gondolunk a vegetáriánusokra is\, de természetesen klasszikus húsos bográcsétel is lesz a terítéken! Ez INGYENES!14:00 – két túra indul. Egy rövidebb Vízitúra Kóstoló és egy hosszabb\, kb. 2 órás túra az Öreg-Szigeti tó körül.15:00 – Vízitúra Kóstoló (kb. 50 perc) vízitúra indulás. \n\n\n\nA hosszú túrán evezés közben élvezetes előadást hallgathatok a Szigetköz élővilágáról és egyéb érdekességekről! \n\n\n\nAz esemény szervezője a Kisbodaki Vízi Kultúrház és a Duna-Régió Vízitrisztikai Szövetség\, fő támogató Magyar Vízitúra Szövetség és Aktív Magyarország
URL:https://vizikulturhaz.kisbodak.hu/event/vizitura-kostolo/
CATEGORIES:Szigetköz Jártassági Tanfolyam
ATTACH;FMTTYPE=image/jpeg:https://vizikulturhaz.kisbodak.hu/wp-content/uploads/2023/09/352527228_192946176666050_3889171873311037581_n.jpg
END:VEVENT
END:VCALENDAR