BEGIN:VCALENDAR
VERSION:2.0
PRODID:-//Vízi Kultúrház - Kisbodak - ECPv6.15.20//NONSGML v1.0//EN
CALSCALE:GREGORIAN
METHOD:PUBLISH
X-ORIGINAL-URL:https://vizikulturhaz.kisbodak.hu
X-WR-CALDESC:Események Vízi Kultúrház - Kisbodak
REFRESH-INTERVAL;VALUE=DURATION:PT1H
X-Robots-Tag:noindex
X-PUBLISHED-TTL:PT1H
BEGIN:VTIMEZONE
TZID:UTC
BEGIN:STANDARD
TZOFFSETFROM:+0000
TZOFFSETTO:+0000
TZNAME:UTC
DTSTART:20210101T000000
END:STANDARD
END:VTIMEZONE
BEGIN:VEVENT
DTSTART;TZID=UTC:20220918T100000
DTEND;TZID=UTC:20220918T140000
DTSTAMP:20260422T120706
CREATED:20220822T161859Z
LAST-MODIFIED:20220822T161902Z
UID:698-1663495200-1663509600@vizikulturhaz.kisbodak.hu
SUMMARY:A Szigetköz őszi madarai
DESCRIPTION:Ezen a természetjáró és ismeretterjesztő napon mindent megtudhatsz a Szigetköz madarairól\, Nagy Kornél zseniális előadásában!Részletek:10:00-kor találkozunk Kisbodakon\, a Vízi Kultúrházban. Ott szabadtéren\, piknik jelleggel hallgathatjátok és láthatjátok Kornél mesteri előadását a madarakról\, kb 12:00-ig. Utána kis ebédszünet és séta az erdőben\, gyakorlatban is megtapasztalni a madarakat!A program vége: kb. 14:00CSALÁDI PROGRAM\, GYEREKEKET IS VÁRUNK!Hozzatok: szendvicset\, csokit\, plédet\, kényelmes túrafelszerelést\, fényképezőt!Jelentkezés csak e-mailben: vizikulturhaz@kisbodak.huinfó: 06205150911
URL:https://vizikulturhaz.kisbodak.hu/event/a-szigetkoz-oszi-madarai/
ATTACH;FMTTYPE=image/jpeg:https://vizikulturhaz.kisbodak.hu/wp-content/uploads/2020/09/Kisbodak-2020-szept-007_1-masolata-scaled.jpg
END:VEVENT
END:VCALENDAR