BEGIN:VCALENDAR
VERSION:2.0
PRODID:-//Vízi Kultúrház - Kisbodak - ECPv6.15.20//NONSGML v1.0//EN
CALSCALE:GREGORIAN
METHOD:PUBLISH
X-ORIGINAL-URL:https://vizikulturhaz.kisbodak.hu
X-WR-CALDESC:Események Vízi Kultúrház - Kisbodak
REFRESH-INTERVAL;VALUE=DURATION:PT1H
X-Robots-Tag:noindex
X-PUBLISHED-TTL:PT1H
BEGIN:VTIMEZONE
TZID:UTC
BEGIN:STANDARD
TZOFFSETFROM:+0000
TZOFFSETTO:+0000
TZNAME:UTC
DTSTART:20200101T000000
END:STANDARD
END:VTIMEZONE
BEGIN:VEVENT
DTSTART;TZID=UTC:20210812T150000
DTEND;TZID=UTC:20210812T190000
DTSTAMP:20260423T064044
CREATED:20210727T081918Z
LAST-MODIFIED:20210727T081919Z
UID:549-1628780400-1628794800@vizikulturhaz.kisbodak.hu
SUMMARY:Vízi jártassági Ásványrárón\, családoknak
DESCRIPTION:A Szigetköz vízrajzával\, a vízitúrázás és a vízi közlekedés szabályaival és gyakorlati technikáival ismerkedhettek meg 2021 augusztus 12-énn\, Szombaton Ásványrárón\, a Part Campingben és a Duna-parton.
URL:https://vizikulturhaz.kisbodak.hu/event/vizi-jartassagi-asvanyraron-csaladoknak/
END:VEVENT
END:VCALENDAR