BEGIN:VCALENDAR
VERSION:2.0
PRODID:-//Vízi Kultúrház - Kisbodak - ECPv6.15.20//NONSGML v1.0//EN
CALSCALE:GREGORIAN
METHOD:PUBLISH
X-ORIGINAL-URL:https://vizikulturhaz.kisbodak.hu
X-WR-CALDESC:Események Vízi Kultúrház - Kisbodak
REFRESH-INTERVAL;VALUE=DURATION:PT1H
X-Robots-Tag:noindex
X-PUBLISHED-TTL:PT1H
BEGIN:VTIMEZONE
TZID:UTC
BEGIN:STANDARD
TZOFFSETFROM:+0000
TZOFFSETTO:+0000
TZNAME:UTC
DTSTART:20190101T000000
END:STANDARD
END:VTIMEZONE
BEGIN:VEVENT
DTSTART;TZID=UTC:20200912T080000
DTEND;TZID=UTC:20200912T170000
DTSTAMP:20260425T212650
CREATED:20200824T112348Z
LAST-MODIFIED:20200824T112350Z
UID:263-1599897600-1599930000@vizikulturhaz.kisbodak.hu
SUMMARY:Szigetköz madarai
DESCRIPTION:
URL:https://vizikulturhaz.kisbodak.hu/event/szigetkoz-madarai/
CATEGORIES:Szigetköz Jártassági Tanfolyam
END:VEVENT
BEGIN:VEVENT
DTSTART;TZID=UTC:20200920T090000
DTEND;TZID=UTC:20200920T160000
DTSTAMP:20260425T212650
CREATED:20200912T083637Z
LAST-MODIFIED:20200912T083639Z
UID:278-1600592400-1600617600@vizikulturhaz.kisbodak.hu
SUMMARY:Kertészeti előadás és vásár
DESCRIPTION:
URL:https://vizikulturhaz.kisbodak.hu/event/kerteszeti-eloadas-es-vasar/
END:VEVENT
BEGIN:VEVENT
DTSTART;TZID=UTC:20200926T090000
DTEND;TZID=UTC:20200926T170000
DTSTAMP:20260425T212650
CREATED:20200915T165959Z
LAST-MODIFIED:20200915T170001Z
UID:295-1601110800-1601139600@vizikulturhaz.kisbodak.hu
SUMMARY:Nagyvadak a Szigetközben
DESCRIPTION:10 órától rövid\, „szarvasbőgős” vízitúra indul a kisbodaki kikötőből\, családi csónakkal (maximum 15 fő a létszám\, időben jelentkezzetek!) \n\n\n\n15 órától a szigetközi nagyvadakról tartanak interaktív előadást Babrik Zsolt és Varga Dávid vadászok\, utána séta és vadfigyelés a kisbodaki töltés mentén
URL:https://vizikulturhaz.kisbodak.hu/event/nagyvadak-a-szigetkozben/
END:VEVENT
END:VCALENDAR