BEGIN:VCALENDAR
VERSION:2.0
PRODID:-//Vízi Kultúrház - Kisbodak - ECPv6.15.20//NONSGML v1.0//EN
CALSCALE:GREGORIAN
METHOD:PUBLISH
X-WR-CALNAME:Vízi Kultúrház - Kisbodak
X-ORIGINAL-URL:https://vizikulturhaz.kisbodak.hu
X-WR-CALDESC:Események Vízi Kultúrház - Kisbodak
REFRESH-INTERVAL;VALUE=DURATION:PT1H
X-Robots-Tag:noindex
X-PUBLISHED-TTL:PT1H
BEGIN:VTIMEZONE
TZID:UTC
BEGIN:STANDARD
TZOFFSETFROM:+0000
TZOFFSETTO:+0000
TZNAME:UTC
DTSTART:20240101T000000
END:STANDARD
END:VTIMEZONE
BEGIN:VEVENT
DTSTART;TZID=UTC:20250629T110000
DTEND;TZID=UTC:20250629T170000
DTSTAMP:20260420T130421
CREATED:20250627T103229Z
LAST-MODIFIED:20250627T103234Z
UID:1121-1751194800-1751216400@vizikulturhaz.kisbodak.hu
SUMMARY:Duna-nap 2025 - ingyenes örömevezés
DESCRIPTION:A Nemzetközi Duna-nap alkalmából a Kisbodaki Önkormányzattal és a Szigetköz Natúrparkkal közös megemlékezést és ingyenes AKTÍV vízitúrát szervezünk június 29-én\, vasárnap délután 14:00-tól Kisbodakon.Részletek:Jelentkezés: vizikulturhaz@kisbodak.hu \n\n\n\nTalálkozó: június 29\, 11:00 Vízi Kultúrház pakoló.Esemény helyszíne: Kisbodaki-ágrendszer(ha valaki szeretné\, BÜFÉ: Kisbodaki Kemping\, 100m a vízpartról) \n\n\n\nA program:Laza kényelmes vízitúra 11:00-16:00-ig az ágrendszer közeli részein – nem megyünk messzire. \n\n\n\nMit hozzatok?Napszaknak megfelelő ruházatot\, vizet\, csokit
URL:https://vizikulturhaz.kisbodak.hu/event/duna-nap-2025-ingyenes-oromevezes/
ATTACH;FMTTYPE=image/png:https://vizikulturhaz.kisbodak.hu/wp-content/uploads/2025/06/duna_nap_ligivel.png
END:VEVENT
END:VCALENDAR