BEGIN:VCALENDAR
VERSION:2.0
PRODID:-//Vízi Kultúrház - Kisbodak - ECPv6.15.20//NONSGML v1.0//EN
CALSCALE:GREGORIAN
METHOD:PUBLISH
X-ORIGINAL-URL:https://vizikulturhaz.kisbodak.hu
X-WR-CALDESC:Események Vízi Kultúrház - Kisbodak
REFRESH-INTERVAL;VALUE=DURATION:PT1H
X-Robots-Tag:noindex
X-PUBLISHED-TTL:PT1H
BEGIN:VTIMEZONE
TZID:UTC
BEGIN:STANDARD
TZOFFSETFROM:+0000
TZOFFSETTO:+0000
TZNAME:UTC
DTSTART:20240101T000000
END:STANDARD
END:VTIMEZONE
BEGIN:VEVENT
DTSTART;TZID=UTC:20250607T080000
DTEND;TZID=UTC:20250607T170000
DTSTAMP:20260420T130752
CREATED:20250523T073142Z
LAST-MODIFIED:20250523T073146Z
UID:1113-1749283200-1749315600@vizikulturhaz.kisbodak.hu
SUMMARY:AKTÍV családi Pünkösdölés
DESCRIPTION:Várunk szeretettel a 2025. június 07-én megrendezésre kerülő Aktív Családi Pünkösdölésre\, Kisbodakon a Dunaparton. \n\n\n\nIdén IV. éve kerül megrendezésre a Szigetköz legnagyobb családbarát szabadidős rendezvénye\, ahol mindenki megtalálja és ki is próbálhatja a hozzá legközelebb álló sportot.Regisztráció a programokra és a reggelire az alábbi linken lehetséges: https://forms.gle/n9G58txwfmx89BfVA
URL:https://vizikulturhaz.kisbodak.hu/event/aktiv-csaladi-punkosdoles/
ATTACH;FMTTYPE=image/jpeg:https://vizikulturhaz.kisbodak.hu/wp-content/uploads/2025/05/Punkosdoles-plakat-.jpg
END:VEVENT
END:VCALENDAR