BEGIN:VCALENDAR
VERSION:2.0
PRODID:-//Vízi Kultúrház - Kisbodak - ECPv6.15.20//NONSGML v1.0//EN
CALSCALE:GREGORIAN
METHOD:PUBLISH
X-WR-CALNAME:Vízi Kultúrház - Kisbodak
X-ORIGINAL-URL:https://vizikulturhaz.kisbodak.hu
X-WR-CALDESC:Események Vízi Kultúrház - Kisbodak
REFRESH-INTERVAL;VALUE=DURATION:PT1H
X-Robots-Tag:noindex
X-PUBLISHED-TTL:PT1H
BEGIN:VTIMEZONE
TZID:UTC
BEGIN:STANDARD
TZOFFSETFROM:+0000
TZOFFSETTO:+0000
TZNAME:UTC
DTSTART:20240101T000000
END:STANDARD
END:VTIMEZONE
BEGIN:VEVENT
DTSTART;TZID=UTC:20250305T080000
DTEND;TZID=UTC:20250405T170000
DTSTAMP:20260420T172350
CREATED:20250305T122631Z
LAST-MODIFIED:20250305T122632Z
UID:1102-1741161600-1743872400@vizikulturhaz.kisbodak.hu
SUMMARY:Vízi szemétszedés
DESCRIPTION:Mi vízitúrások felelősek vagyunk a környezetünkért\, mi használjuk\, mi is tartjuk karban… Takarítsunk ki\, mielőtt indul a nyár… \n\n\n\nVízi szemétszedést tartunk Kisbodakon\, április 6-án\, szombaton\, ahová minden Szigetköz és természetszerető embert várunk!A túra során a kisbodaki ágrendszer területén szedjük a szemetet\, különösen koncentrálva a kényes\, eldugottabb területekre. Kenukkal túrázunk\, érdemes kettesével szerveződni\, így van hely a hulladéknak is a hajókban. \n\n\n\nTalálkozó: 2025 április 5.\, 08:00 Kisbodak\, Vízi Kultúrház.Jöhettek parton\, vízen egyaránt\, kinek mihez van kedve. Kesztyűt\, zsákot és kenukat + felszerelést biztosítunk! Igény esetén nagy családi csónakkal is mehetünk\, így a program gyermekbarát! \n\n\n\nÉvszaknak és időjárásnak megfelelő ruhát\, váltóruhát\, szendvicset\, vizet hozzatok magatokkal\, a program végén mi egy tábori ebéddel várunk Benneteket a munka után! (legyen nálatok egy nem eldobható mélytányér és kanál\, amit az ebéd után hazavisztek) \n\n\n\nA program INGYENES\, de kötelező regisztrációhoz kötött… \n\n\n\nRegisztráció: vizikulturhaz@kisbodak.hu \n\n\n\nHelyszíni jelentkezésre nincs lehetőség! Kérünk egy nevet\, létszámot\, hogy mennyien jönnétek és egy elérhetőséget
URL:https://vizikulturhaz.kisbodak.hu/event/vizi-szemetszedes-2/
ATTACH;FMTTYPE=image/png:https://vizikulturhaz.kisbodak.hu/wp-content/uploads/2025/03/plakat.png
END:VEVENT
END:VCALENDAR