BEGIN:VCALENDAR
VERSION:2.0
PRODID:-//Vízi Kultúrház - Kisbodak - ECPv6.15.20//NONSGML v1.0//EN
CALSCALE:GREGORIAN
METHOD:PUBLISH
X-WR-CALNAME:Vízi Kultúrház - Kisbodak
X-ORIGINAL-URL:https://vizikulturhaz.kisbodak.hu
X-WR-CALDESC:Események Vízi Kultúrház - Kisbodak
REFRESH-INTERVAL;VALUE=DURATION:PT1H
X-Robots-Tag:noindex
X-PUBLISHED-TTL:PT1H
BEGIN:VTIMEZONE
TZID:UTC
BEGIN:STANDARD
TZOFFSETFROM:+0000
TZOFFSETTO:+0000
TZNAME:UTC
DTSTART:20230101T000000
END:STANDARD
END:VTIMEZONE
BEGIN:VEVENT
DTSTART;TZID=UTC:20240908T090000
DTEND;TZID=UTC:20240908T140000
DTSTAMP:20260421T022556
CREATED:20240827T072309Z
LAST-MODIFIED:20240827T072312Z
UID:1013-1725786000-1725804000@vizikulturhaz.kisbodak.hu
SUMMARY:Családi természetjáró nap és Microtus Minibusz
DESCRIPTION:Érdekel a Szigetköz élővilága\, szívesen kísérleteznél\, vizsgálnád a környezetedet közelről és járnád a természetet csónakkal vagy gyalogosan?Sok szeretettel várunk minden érdeklődőt szeptember 8-án\, vasárnap Kisbodakra\, egy különleges ősz eleji család és gyermekbarát programra. Az eseményen érdekes interaktív előadáson és családbarát vízitúrán vehettek részt\, utána pedig vendégeink vagytok egy tábori ebédre!Részletek:Találkozó: Kisbodak Vízi Kultúrház (https://xn--vizikuturhaz-geb.kisbodak.hu/) 09:0009:00 – 11:00 interaktív természetvizsgáló előadás a Microtus Minibusz guruló tanteremben felnőtteknek és gyerekeknek egyaránt. (https://www.pisztrangkor.hu/hun/microtus-2.html) \n\n\n\n11:00 – 13:00 – családi csónakos (12 személyes\, minden korosztály számára biztonságos csónak) és gyalogos természetjárás a gyönyörű ágrendszerben.13:30 – Tábori ebéd. Egy szigetközi specialítást főzünk\, meglepetés\, de lesz benne hús Jelentkezés és infó : vizikulturhaz@kisbodak.huA program ára: 2500 Ft/fő\, ez mindent tartalmaz!Létszám: maximum 30 fő \n\n\n\nLegyen nálad: laza túrafelszerelés\, (a vízitúra esetén egy váltópapucs)\, távcső\, víz\, csoki\, a tábori ebédhez nem eldobható étkészlet.Szervezők: Szigetköz Natúrpark és a Kisbodaki Önkormányzat. Támogató: Tiszta Formák Alapítvány
URL:https://vizikulturhaz.kisbodak.hu/event/csaladi-termeszetjaro-nap-es-microtus-minibusz/
CATEGORIES:Szigetköz Jártassági Tanfolyam
ATTACH;FMTTYPE=image/jpeg:https://vizikulturhaz.kisbodak.hu/wp-content/uploads/2024/08/455071326_943471920917906_3217787999352338268_n.jpg
END:VEVENT
END:VCALENDAR