BEGIN:VCALENDAR
VERSION:2.0
PRODID:-//Vízi Kultúrház - Kisbodak - ECPv6.15.20//NONSGML v1.0//EN
CALSCALE:GREGORIAN
METHOD:PUBLISH
X-ORIGINAL-URL:https://vizikulturhaz.kisbodak.hu
X-WR-CALDESC:Események Vízi Kultúrház - Kisbodak
REFRESH-INTERVAL;VALUE=DURATION:PT1H
X-Robots-Tag:noindex
X-PUBLISHED-TTL:PT1H
BEGIN:VTIMEZONE
TZID:UTC
BEGIN:STANDARD
TZOFFSETFROM:+0000
TZOFFSETTO:+0000
TZNAME:UTC
DTSTART:20230101T000000
END:STANDARD
END:VTIMEZONE
BEGIN:VEVENT
DTSTART;TZID=UTC:20240705T090000
DTEND;TZID=UTC:20240705T170000
DTSTAMP:20260421T060521
CREATED:20240619T151202Z
LAST-MODIFIED:20240619T151236Z
UID:936-1720170000-1720198800@vizikulturhaz.kisbodak.hu
SUMMARY:Szigetköz Jártassági - INGYENES AKTÍV nap oktatásban dolgozók részére a nyári szünetben!
DESCRIPTION:Sok szeretettel várunk minden oktatásban dolgozót (óvodától fenntartóig) egy ingyenes aktív kikapcsolódásra\, Kisbodakra! \n\n\n\nA Szigetköz Jártassági Tanfolyam keretében ezen a napon megismerkedhetnek a résztvevők a Szigetközzel\, annak kialakulásával\, jelenlegi állapotával\, megtanulhatják az evezés alapszintű fortélyait\, rövid de élvezetes vízitúrát tehetnek és a végén egy egyszerű de finom tábori ebéddel búcsúzhatnak Kisbodaktól.Az evezés biztonságos nagy családi csónakokkal történik! \n\n\n\nRészletek és jelentkezés: vizikulturhaz@kisbodak.huTalálkozó: Kisbodak\, Vízi Kultúrház\, 09:00. A program vége: 17:00 környéke. \n\n\n\nMenetrend:Egy rövid\, filmmel támogatott előadás keretében megismerkedhetünk a Szigetköz történetével\, utána kis pihi\, kv és irány a vízpart! Evezőt ragadunk\, mindenki megtanul kenuban ülni és kicsit kormányozni\, de a túrát már közösen\, nagy csapathajókkal tesszük meg!Kezdők is jöhetnek\, úszás tudás előny\, de nem kötelező\, mentőmellényt adunk!A program végén közösen elfogyasztjuk a tábori ebédet és zárjuk a napot.
URL:https://vizikulturhaz.kisbodak.hu/event/szigetkoz-jartassagi-ingyenes-aktiv-nap-oktatasban-dolgozok-reszere-a-nyari-szunetben/
CATEGORIES:Szigetköz Jártassági Tanfolyam
ATTACH;FMTTYPE=image/jpeg:https://vizikulturhaz.kisbodak.hu/wp-content/uploads/2024/06/448760373_909975304267568_1726123810857022037_n.jpg
END:VEVENT
END:VCALENDAR