BEGIN:VCALENDAR
VERSION:2.0
PRODID:-//Vízi Kultúrház - Kisbodak - ECPv6.15.20//NONSGML v1.0//EN
CALSCALE:GREGORIAN
METHOD:PUBLISH
X-WR-CALNAME:Vízi Kultúrház - Kisbodak
X-ORIGINAL-URL:https://vizikulturhaz.kisbodak.hu
X-WR-CALDESC:Események Vízi Kultúrház - Kisbodak
REFRESH-INTERVAL;VALUE=DURATION:PT1H
X-Robots-Tag:noindex
X-PUBLISHED-TTL:PT1H
BEGIN:VTIMEZONE
TZID:UTC
BEGIN:STANDARD
TZOFFSETFROM:+0000
TZOFFSETTO:+0000
TZNAME:UTC
DTSTART:20230101T000000
END:STANDARD
END:VTIMEZONE
BEGIN:VEVENT
DTSTART;TZID=UTC:20240602T080000
DTEND;TZID=UTC:20240602T170000
DTSTAMP:20260421T073806
CREATED:20240503T063648Z
LAST-MODIFIED:20240503T063649Z
UID:906-1717315200-1717347600@vizikulturhaz.kisbodak.hu
SUMMARY:Dunáljunk Együtt! - AKTÍV családi nap Kisbodakon
DESCRIPTION:AKTÍV családi nap Kisbodakon\, június 2-án! Harmadik alkalommal kerül megrendezésre az AKTÍV családi nap Kisbodakon\, a Szigetköz Natúrpark szervezésében. Az egész napos szabadtéri programban számtalan aktív szabadtéri tevékenység próbálható ki ingyenesen. a Vízi Kultúrház várja a vízitúrázni vágyókat rövidebb és hosszabb programokkal \n\n\n\nAz AKTÍV családi nap további programjait itt tekinthetitek meg: Lesz Szigetköz Szatyor\, falmászás\, kerékpártúrák\, büfé\, fajátékok gyerekeknek\, igazi Aktív sürgés forgás… \n\n\n\nVízitúrák: 6 vízitúra változatos útvonalakon\, egész nap! \n\n\n\nRészletek: http://vizikulturhaz.kisbodak.hu/dunaljunk-meg-aktiv-csaladi-nap-es-ingyenes-viziturak-kisbodakon-junius-2/
URL:https://vizikulturhaz.kisbodak.hu/event/dunaljunk-egyutt-aktiv-csaladi-nap-kisbodakon/
LOCATION:Gátőrház\, Kisbodak\, Győr-Moson-Sopron\, Magyarország
CATEGORIES:Egyéb természetjáró program,Szigetköz Jártassági Tanfolyam
ATTACH;FMTTYPE=image/png:https://vizikulturhaz.kisbodak.hu/wp-content/uploads/2024/04/1.png
END:VEVENT
END:VCALENDAR