BEGIN:VCALENDAR
VERSION:2.0
PRODID:-//Vízi Kultúrház - Kisbodak - ECPv6.15.20//NONSGML v1.0//EN
CALSCALE:GREGORIAN
METHOD:PUBLISH
X-WR-CALNAME:Vízi Kultúrház - Kisbodak
X-ORIGINAL-URL:https://vizikulturhaz.kisbodak.hu
X-WR-CALDESC:Események Vízi Kultúrház - Kisbodak
REFRESH-INTERVAL;VALUE=DURATION:PT1H
X-Robots-Tag:noindex
X-PUBLISHED-TTL:PT1H
BEGIN:VTIMEZONE
TZID:UTC
BEGIN:STANDARD
TZOFFSETFROM:+0000
TZOFFSETTO:+0000
TZNAME:UTC
DTSTART:20230101T000000
END:STANDARD
END:VTIMEZONE
BEGIN:VEVENT
DTSTART;TZID=UTC:20240501T080000
DTEND;TZID=UTC:20240501T170000
DTSTAMP:20260421T090115
CREATED:20230328T103827Z
LAST-MODIFIED:20240429T070602Z
UID:747-1714550400-1714582800@vizikulturhaz.kisbodak.hu
SUMMARY:Szemétszedés a Dunán - Kisbodak -
DESCRIPTION:Takarítsuk ki az ágrendszert! – Szigetköz Jártassági Tanfolyam \n\n\n\nTAVASZI NAGYTAKARÍTÁS A VÍZ VILÁGNAPJÁTÓL A FÖLD NAPJÁIG…Vízi szemétszedést tartunk Kisbodakon\, május 1-én\, szerdán! \n\n\n\nTámogatónk: Aktív Magyarország és a Kisbodaki Önkormányzat \n\n\n\nTalálkozó: 10:00\, Vízi Kultúrház\, váltóruhát\, szendvicset\, vizet hozzatok magatokkal! \n\n\n\nA túra során a kisbodaki ágrendszer területén szedjük a szemetet\, különösen koncentrálva a kényes\, eldugottabb területekre. Kenukkal túrázunk\, érdemes kettesével szerveződni\, így van hely a szemétnek is a hajókban. \n\n\n\nA szemétszedéshez eszközöket biztosítunk\, a program INGYENES\, de regisztrációhoz kötött…Regisztráció: vizikulturhaz@kisbodak.huKérünk egy nevet\, létszámot és egy elérhetőséget.
URL:https://vizikulturhaz.kisbodak.hu/event/szemetszedes-a-dunan-kisbodak/
LOCATION:Vízi Kultúrház\, Kisbodak\, Kisbodak\, Győr-Moson-Sopron\, 9234\, Magyarország
CATEGORIES:Szigetköz Jártassági Tanfolyam
ATTACH;FMTTYPE=image/jpeg:https://vizikulturhaz.kisbodak.hu/wp-content/uploads/2023/03/434371670_860205182577914_1925681542125873297_n.jpg
ORGANIZER;CN="V%C3%ADzi Kult%C3%BArh%C3%A1z":MAILTO:vizikulturhaz@kisbodak.hu
END:VEVENT
END:VCALENDAR