BEGIN:VCALENDAR
VERSION:2.0
PRODID:-//Vízi Kultúrház - Kisbodak - ECPv6.15.20//NONSGML v1.0//EN
CALSCALE:GREGORIAN
METHOD:PUBLISH
X-WR-CALNAME:Vízi Kultúrház - Kisbodak
X-ORIGINAL-URL:https://vizikulturhaz.kisbodak.hu
X-WR-CALDESC:Események Vízi Kultúrház - Kisbodak
REFRESH-INTERVAL;VALUE=DURATION:PT1H
X-Robots-Tag:noindex
X-PUBLISHED-TTL:PT1H
BEGIN:VTIMEZONE
TZID:UTC
BEGIN:STANDARD
TZOFFSETFROM:+0000
TZOFFSETTO:+0000
TZNAME:UTC
DTSTART:20220101T000000
END:STANDARD
END:VTIMEZONE
BEGIN:VEVENT
DTSTART;TZID=UTC:20230823T080000
DTEND;TZID=UTC:20230826T170000
DTSTAMP:20260421T212913
CREATED:20230914T165641Z
LAST-MODIFIED:20230914T165644Z
UID:826-1692777600-1693069200@vizikulturhaz.kisbodak.hu
SUMMARY:Ifjú túravezető képzés
DESCRIPTION:Ifjú túravezető képzés a Vízi Kultúrház – Kisbodak-ban. A Magyar Vízitúra Szövetség támogatásával és közreműködésével a győri Péterfy Sándor Evangélikus Gimnázium 15 diákja és 2 pedagógusa vesz részt nálunk egy 3 napos ingyenes képzés\, ami után a gyerekek nagy magabiztossággal szállhatnak a jövőben vízre és adhatják tovább a vízitúra mesterséget…a mai nap: elmélet\, kenu logisztika és vízre szállás a kikötőben… \n\n\n\n#mavitusz \n\n\n\n#avízitúramindenkié
URL:https://vizikulturhaz.kisbodak.hu/event/ifju-turavezeto-kepzes/
CATEGORIES:Egyéb természetjáró program,Szigetköz Jártassági Tanfolyam
ATTACH;FMTTYPE=image/jpeg:https://vizikulturhaz.kisbodak.hu/wp-content/uploads/2023/09/369796350_259077223738001_7521906374805101408_n.jpg
END:VEVENT
END:VCALENDAR