BEGIN:VCALENDAR
VERSION:2.0
PRODID:-//Vízi Kultúrház - Kisbodak - ECPv6.15.20//NONSGML v1.0//EN
CALSCALE:GREGORIAN
METHOD:PUBLISH
X-WR-CALNAME:Vízi Kultúrház - Kisbodak
X-ORIGINAL-URL:https://vizikulturhaz.kisbodak.hu
X-WR-CALDESC:Események Vízi Kultúrház - Kisbodak
REFRESH-INTERVAL;VALUE=DURATION:PT1H
X-Robots-Tag:noindex
X-PUBLISHED-TTL:PT1H
BEGIN:VTIMEZONE
TZID:UTC
BEGIN:STANDARD
TZOFFSETFROM:+0000
TZOFFSETTO:+0000
TZNAME:UTC
DTSTART:20210101T000000
END:STANDARD
END:VTIMEZONE
BEGIN:VEVENT
DTSTART;TZID=UTC:20220728T090000
DTEND;TZID=UTC:20220728T170000
DTSTAMP:20260422T160743
CREATED:20220725T081128Z
LAST-MODIFIED:20220725T081131Z
UID:691-1658998800-1659027600@vizikulturhaz.kisbodak.hu
SUMMARY:Szigetköz Jártassági Tanfolyam - evezés gyakorlás a Zátonyi-Dunán
DESCRIPTION:OKTATÁS\, VÍZITÚRA\, TÚRAKENU\, SZIGETKÖZ…Családi program! \n\n\n\nA békés\, kezdőknek való Zátonyi-Dunára hívunk Benneteket július 28-án\, csütörtökön 10:00 és 16:00 között a Kisbodaki Vízi Kultúrház – SZIGETKÖZ JÁRTASSÁGI tanfolyam keretében. \n\n\n\nJelentkezés: vizhikulturhaz@kisbodak.hu – 06HÚSZ5150911 \n\n\n\nA program önköltséges\, a résztvevők (max. 10 fő) a Zátonyi-Dunán gyakorlohatják\, oktató segítségével a túrakenuzás technikáját. A cél: a résztvevők 2-3-4 személyes kenukkal\, magabiztosan\, önállóan tudják a kenut irányítani\, a víz adta nehézségeket közösen megoldani. \n\n\n\nTalálkozó: 09:00\, Kisbodak\, Esthajnalcsillag Kemping. Innen közösen megyünk a Zátonyi-Duna püski kikötőjébe. Visszaérkezés\, kb 15:00. \n\n\n\nHozzatok magatokkal: vizet\, csokit\, szendvicset\, nap és eső elleni védelmet\, túrafelszerelést\, szandált vagy papucsot. A vízitúrás eszközöket biztosítjuk! \n\n\n\nA fordulónál üdítő és szendvics vásárlási lehetőség van! A program nyílt\, mindenkit sok szeretettel várunk\, de a résztvevők létszáma koráltozott!
URL:https://vizikulturhaz.kisbodak.hu/event/szigetkoz-jartassagi-tanfolyam-evezes-gyakorlas-a-zatonyi-dunan/
ATTACH;FMTTYPE=image/jpeg:https://vizikulturhaz.kisbodak.hu/wp-content/uploads/2022/07/295861180_2239474146218073_5554569489281774578_n.jpg
END:VEVENT
END:VCALENDAR