BEGIN:VCALENDAR
VERSION:2.0
PRODID:-//Vízi Kultúrház - Kisbodak - ECPv6.15.20//NONSGML v1.0//EN
CALSCALE:GREGORIAN
METHOD:PUBLISH
X-WR-CALNAME:Vízi Kultúrház - Kisbodak
X-ORIGINAL-URL:https://vizikulturhaz.kisbodak.hu
X-WR-CALDESC:Események Vízi Kultúrház - Kisbodak
REFRESH-INTERVAL;VALUE=DURATION:PT1H
X-Robots-Tag:noindex
X-PUBLISHED-TTL:PT1H
BEGIN:VTIMEZONE
TZID:UTC
BEGIN:STANDARD
TZOFFSETFROM:+0000
TZOFFSETTO:+0000
TZNAME:UTC
DTSTART:20200101T000000
END:STANDARD
END:VTIMEZONE
BEGIN:VEVENT
DTSTART;TZID=UTC:20211016T090000
DTEND;TZID=UTC:20211016T170000
DTSTAMP:20260423T050957
CREATED:20210920T185547Z
LAST-MODIFIED:20210920T185548Z
UID:575-1634374800-1634403600@vizikulturhaz.kisbodak.hu
SUMMARY:Kisbodaki Dudás és népzenei nap Sós Antal dudás tiszteletére
DESCRIPTION:Sok szeretettel vár Kisbodak és a Vízi Kultúrház minden népzene\, dudazene és népi mesterségek illetve néptánci iránt érdeklődőt október 16-ra\, Kisbodakra\, Sós Antal kecskedudás tiszteletére szervezett I. Kisbodaki Dudás Napra. Ezen a napon reggeltől délutánig a Virtus zenekar tolmácsolásában megismerkedhettek a dudaművészettel\, a szigetközi népzenével és néptánccal és természetesen Sós Antal munkásságával is.
URL:https://vizikulturhaz.kisbodak.hu/event/kisbodaki-dudas-es-nepzenei-nap-sos-antal-dudas-tiszteletere/
END:VEVENT
END:VCALENDAR