BEGIN:VCALENDAR
VERSION:2.0
PRODID:-//Vízi Kultúrház - Kisbodak - ECPv6.15.20//NONSGML v1.0//EN
CALSCALE:GREGORIAN
METHOD:PUBLISH
X-ORIGINAL-URL:https://vizikulturhaz.kisbodak.hu
X-WR-CALDESC:Események Vízi Kultúrház - Kisbodak
REFRESH-INTERVAL;VALUE=DURATION:PT1H
X-Robots-Tag:noindex
X-PUBLISHED-TTL:PT1H
BEGIN:VTIMEZONE
TZID:UTC
BEGIN:STANDARD
TZOFFSETFROM:+0000
TZOFFSETTO:+0000
TZNAME:UTC
DTSTART:20190101T000000
END:STANDARD
END:VTIMEZONE
BEGIN:VEVENT
DTSTART;TZID=UTC:20200725T140000
DTEND;TZID=UTC:20200725T180000
DTSTAMP:20260426T014621
CREATED:20200714T094934Z
LAST-MODIFIED:20200714T094936Z
UID:219-1595685600-1595700000@vizikulturhaz.kisbodak.hu
SUMMARY:Szigetköz Jártassági Tanfolyam II.
DESCRIPTION:A Kisbodaki Vízi Kultúrház és a DR-VTSZ szervezésében folytatjuk a Szigetköz Jártassági Tanfolyam vízitúrás eseménysorozatát\, egy nagyszerű előadással egybekötve\, melynek vezetője Kertész József vízépítő mérnök\, a témája pedig a Szigetközi Mellékágrendszer és a Duna elterelése.
URL:https://vizikulturhaz.kisbodak.hu/event/szigetkoz-jartassagi-tanfolyam-ii/
CATEGORIES:Szigetköz Jártassági Tanfolyam
END:VEVENT
END:VCALENDAR